BEGIN:VCALENDAR
PRODID:-//Solspace/Calendar 2.x//EN
VERSION:2.0
CALSCALE:GREGORIAN
BEGIN:VEVENT
UID:b35496c847ef2bc44549affb6dd6baa1@solspace.com
DTSTAMP:20260421T083254
DESCRIPTION:Every Tuesday at 12 noon this group meets at the Hilton Doub
 letree on the corner of Monkgate and St Maurice's Road.  Hal
 ves is an opportunity to meet with others who share the loss
  of their other half over a light lunch and a hot drink\, fo
 r about 90 minutes. There is no charge for this event\, alth
 ough a box is left out for any donations you may wish to mak
 e. Come along and make new friends in an atmosphere where yo
 u are accepted and understood.
DTSTART:20230101T120000
DTEND:20230101T133000
RRULE:FREQ=WEEKLY;UNTIL=20260728T235959Z;INTERVAL=1;BYDAY=TU
EXDATE:20150804T120000,20150811T120000,20150818T120000,20150825T120000,20160802T120000,20160809T120000,20160816T120000,20160823T120000,20160830T120000,20170801T120000,20170808T120000,20170815T120000,20170822T120000,20170829T120000,20191231T120000,20220802T120000,20220809T120000,20220816T120000,20220823T120000,20220830T120000,20221227T120000,20230801T120000,20230808T120000,20230815T120000,20230822T120000,20230829T120000,20231226T120000,20241224T120000,20241231T120000,20250805T120000,20250812T120000,20250819T120000,20250826T120000
SUMMARY:Halves
END:VEVENT
END:VCALENDAR
