BEGIN:VCALENDAR
PRODID:-//Solspace/Calendar 2.x//EN
VERSION:2.0
CALSCALE:GREGORIAN
BEGIN:VEVENT
UID:07d0047bd76c2198a0609c8b65079903@solspace.com
DTSTAMP:20260421T083244
DTSTART:20200605T193000
DTEND:20200605T203000
RRULE:FREQ=WEEKLY;UNTIL=20260804T235959Z;INTERVAL=1;BYDAY=TU
EXDATE:20201222T193000,20201229T193000,20211221T193000,20211228T193000,20220802T193000,20220809T193000,20220816T193000,20220823T193000,20220830T193000,20221227T193000,20230801T193000,20230808T193000,20230815T193000,20230822T193000,20230829T193000,20231226T193000,20241224T193000,20241231T193000,20250805T193000,20250812T193000,20250819T193000,20250826T193000
SUMMARY:Online Prayer Meeting
END:VEVENT
END:VCALENDAR
