BEGIN:VCALENDAR
PRODID:-//Solspace/Calendar 2.x//EN
VERSION:2.0
CALSCALE:GREGORIAN
BEGIN:VEVENT
UID:79416f0903ae9d64f27549c377bbf6ea@solspace.com
DTSTAMP:20260421T083253
DESCRIPTION:Our Sunday worship service takes place every week at 11am
DTSTART:20230723T110000
DTEND:20230723T123000
RRULE:FREQ=WEEKLY;UNTIL=20290527T235959Z;INTERVAL=1;BYDAY=SU
EXDATE:20230730T110000,20230806T110000,20230813T110000,20230820T110000,20231001T110000,20231015T110000,20231210T110000,20231224T110000,20240225T110000,20250727T110000,20250803T110000
SUMMARY:Sunday Service
END:VEVENT
END:VCALENDAR
