BEGIN:VCALENDAR
PRODID:-//Solspace/Calendar 2.x//EN
VERSION:2.0
CALSCALE:GREGORIAN
BEGIN:VEVENT
UID:e4c649aeb47673558be48d5fed2c4b0f@solspace.com
DTSTAMP:20260421T141001
DESCRIPTION:Time together feasting as family after the Sunday service
DTSTART:20250525T124500
DTEND:20250525T140000
SUMMARY:Bring and Share lunch
END:VEVENT
BEGIN:VEVENT
UID:3d265e97c2865f06f1a8279ae8b80c83@solspace.com
DTSTAMP:20260421T141001
DESCRIPTION:Time together feasting as family after the Sunday service
DTSTART:20251130T000000
DTEND:20251130T140000
SUMMARY:Bring and Share lunch
END:VEVENT
BEGIN:VEVENT
UID:cc14cbd495015ed8550e063b60771413@solspace.com
DTSTAMP:20260421T141001
DESCRIPTION:Time together feasting as family after the Sunday service
DTSTART:20260517T000000
DTEND:20260517T140000
SUMMARY:Bring and Share lunch
END:VEVENT
BEGIN:VEVENT
UID:5871e95ec48d32dab9e7ca4695904cdc@solspace.com
DTSTAMP:20260421T141001
DESCRIPTION:Time together feasting as family after the Sunday service
DTSTART:20260719T000000
DTEND:20260719T140000
SUMMARY:Bring and Share lunch
END:VEVENT
BEGIN:VEVENT
UID:874c30202f4f3175c09e1b3f0a1bda4d@solspace.com
DTSTAMP:20260421T141001
DESCRIPTION:Time together feasting as family after the Sunday service
DTSTART:20260920T000000
DTEND:20260920T140000
SUMMARY:Bring and Share lunch
END:VEVENT
BEGIN:VEVENT
UID:b51ac8a265a4676ac55e4b696643793b@solspace.com
DTSTAMP:20260421T141001
DESCRIPTION:Time together feasting as family after the Sunday service
DTSTART:20261122T000000
DTEND:20261122T140000
SUMMARY:Bring and Share lunch
END:VEVENT
END:VCALENDAR
