BEGIN:VCALENDAR
PRODID:-//Solspace/Calendar 2.x//EN
VERSION:2.0
CALSCALE:GREGORIAN
BEGIN:VEVENT
UID:ce4588d28eec169900c057fd66923f32@solspace.com
DTSTAMP:20260422T084633
DESCRIPTION:Would it be Christmas without carols? Well\, yes... but we l
 ove to sing them anyway!
DTSTART:20251221T190000
DTEND:20251221T200000
SUMMARY:Christmas Carol Concert
END:VEVENT
END:VCALENDAR
