BEGIN:VCALENDAR
PRODID:-//Solspace/Calendar 2.x//EN
VERSION:2.0
CALSCALE:GREGORIAN
BEGIN:VEVENT
UID:ffac16e2e90fdd7106496741c0d52fe1@solspace.com
DTSTAMP:20260423T081249
DESCRIPTION:A time of prayer and study together... with tea and scones!
DTSTART:20260131T140000
DTEND:20260131T160000
SUMMARY:Ladies' Gathering
END:VEVENT
BEGIN:VEVENT
UID:8b9d81fd0a8c136534e54970790f093f@solspace.com
DTSTAMP:20260423T081249
DESCRIPTION:A time of prayer and study together... with tea and scones!
DTSTART:20260328T000000
DTEND:20260328T160000
SUMMARY:Ladies' Gathering
END:VEVENT
END:VCALENDAR
