BEGIN:VCALENDAR
PRODID:-//Solspace/Calendar 2.x//EN
VERSION:2.0
CALSCALE:GREGORIAN
BEGIN:VEVENT
UID:5b46b2207877afc855d35bc17dadf437@solspace.com
DTSTAMP:20260423T080648
DESCRIPTION:A chance to give thanks for the cross together\, then enjoy 
 hot cross buns!
DTSTART:20260403T103000
DTEND:20260403T123000
SUMMARY:Good Friday Service
END:VEVENT
END:VCALENDAR
