BEGIN:VCALENDAR
PRODID:-//Solspace/Calendar 2.x//EN
VERSION:2.0
CALSCALE:GREGORIAN
BEGIN:VEVENT
UID:629ba695a072f93924266896d4c23944@solspace.com
DTSTAMP:20260423T081242
DESCRIPTION:A chance to be together as a church\, enjoying all sorts of 
 fun activities!
DTSTART:20260228T190000
DTEND:20260228T200000
SUMMARY:Church Social
END:VEVENT
BEGIN:VEVENT
UID:e9252b49397e35a64d4121e49ef5472e@solspace.com
DTSTAMP:20260423T081242
DESCRIPTION:A chance to be together as a church\, enjoying all sorts of 
 fun activities!
DTSTART:20251101T000000
DTEND:20251101T200000
SUMMARY:Church Social
END:VEVENT
BEGIN:VEVENT
UID:2d570b2062d69e6dcf22d8407ccfedce@solspace.com
DTSTAMP:20260423T081242
DESCRIPTION:A chance to be together as a church\, enjoying all sorts of 
 fun activities!
DTSTART:20260425T000000
DTEND:20260425T200000
SUMMARY:Church Social
END:VEVENT
BEGIN:VEVENT
UID:be67f1250b910e0fc12209f4c3db8233@solspace.com
DTSTAMP:20260423T081242
DESCRIPTION:A chance to be together as a church\, enjoying all sorts of 
 fun activities!
DTSTART:20260626T000000
DTEND:20260626T200000
SUMMARY:Church Social
END:VEVENT
BEGIN:VEVENT
UID:8e13c46d8df482c7f072443d1cf6fa95@solspace.com
DTSTAMP:20260423T081242
DESCRIPTION:A chance to be together as a church\, enjoying all sorts of 
 fun activities!
DTSTART:20261031T000000
DTEND:20261031T200000
SUMMARY:Church Social
END:VEVENT
END:VCALENDAR
