BEGIN:VCALENDAR
PRODID:-//Solspace/Calendar 2.x//EN
VERSION:2.0
CALSCALE:GREGORIAN
BEGIN:VEVENT
UID:e3edb6e314a32dbb0fa016a13af65e18@solspace.com
DTSTAMP:20260423T081243
DESCRIPTION:​Henry George (Ichthus) speaks to us about the miracles of
  Jesus in the Gospel of John\, and why they can make such a 
 big difference to every part of our life!​
DTSTART:20260301T120000
DTEND:20260301T123000
SUMMARY:The Bread of Life
END:VEVENT
END:VCALENDAR
